BEGIN:VCALENDAR
VERSION:2.0
PRODID:-//ChamberMaster//Event Calendar 2.0//EN
METHOD:PUBLISH
X-PUBLISHED-TTL:P3D
REFRESH-INTERVAL:P3D
CALSCALE:GREGORIAN
BEGIN:VEVENT
DTSTART:20120330T004500Z
DTEND:20120330T021500Z
X-MICROSOFT-CDO-ALLDAYEVENT:FALSE
SUMMARY:Yoga Bliss Thursdays
DESCRIPTION:Stretch out your body\, do yoga\, practice breathing awareness and feel refreshed. Patricia Becker will help you transform yourself gently and playfully.
X-ALT-DESC;FMTTYPE=text/html:Stretch out your body\, do yoga\, practice breathing awareness and feel refreshed. Patricia Becker will help you transform yourself gently and playfully. 
LOCATION:541 Cowper Ave\, Palo Alto \, Ca 94306
UID:e.2469.1187
SEQUENCE:3
DTSTAMP:20260426T011247Z
URL:https://business.paloaltochamber.com/events/details/yoga-bliss-thursdays-03-29-2012-1187
END:VEVENT

END:VCALENDAR
