BEGIN:VCALENDAR
VERSION:2.0
PRODID:-//ChamberMaster//Event Calendar 2.0//EN
METHOD:PUBLISH
X-PUBLISHED-TTL:P3D
REFRESH-INTERVAL:P3D
CALSCALE:GREGORIAN
BEGIN:VEVENT
DTSTART:20120217T014500Z
DTEND:20120217T031500Z
X-MICROSOFT-CDO-ALLDAYEVENT:FALSE
SUMMARY:Yoga Bliss Thursday
DESCRIPTION:Come stretch out your body\, practice breathing awareness and feel refreshed.  Sometimes the class is strong and sometimes soothing!  Patricia Becker will help you transform yourself gently and playfully with proper body alignment.  Yoga Anusara Inspired
X-ALT-DESC;FMTTYPE=text/html:Come stretch out your body\, practice breathing awareness and feel refreshed.  Sometimes the class is strong and sometimes soothing!  Patricia Becker will help you transform yourself gently and playfully with proper body alignment.  Yoga Anusara Inspired 
LOCATION:541 Cowper Ave\, Palo Alto\, CA 94306
UID:e.2469.1157
SEQUENCE:3
DTSTAMP:20260425T213912Z
URL:https://business.paloaltochamber.com/events/details/yoga-bliss-thursday-02-16-2012-1157
END:VEVENT

END:VCALENDAR
