BEGIN:VCALENDAR
VERSION:2.0
PRODID:-//ChamberMaster//Event Calendar 2.0//EN
METHOD:PUBLISH
X-PUBLISHED-TTL:P3D
REFRESH-INTERVAL:P3D
CALSCALE:GREGORIAN
BEGIN:VEVENT
DTSTART:20120526T030000Z
DTEND:20120526T030000Z
X-MICROSOFT-CDO-ALLDAYEVENT:FALSE
SUMMARY:Wonderful World by Richard Dresser
DESCRIPTION:Max has a serious in-law problem. An apparently happy family hurtles to the brink of despair in this hilariously twisted comedy about two brothers\, Max and Barry. Feeling slighted by Max and his girlfriend\, Barry's wife embarks on a scorched-earth policy of truth-telling. Wonderful World probes the subterranean truths of an American family and ultimately affirms the mysterious and powerful bonds that hold a family together.
X-ALT-DESC;FMTTYPE=text/html:Max has a serious in-law problem. An apparently happy family hurtles to the brink of despair in this hilariously twisted comedy about two brothers\, Max and Barry. Feeling slighted by Max and his girlfriend\, Barry's wife embarks on a scorched-earth policy of truth-telling. Wonderful World probes the subterranean truths of an American family and ultimately affirms the mysterious and powerful bonds that hold a family together.
LOCATION:535 Alma St. \, Palo Alto\, CA 94301
UID:e.2469.1223
SEQUENCE:3
DTSTAMP:20260426T025438Z
URL:https://business.paloaltochamber.com/events/details/wonderful-world-by-richard-dresser-05-25-2012-1223
END:VEVENT

END:VCALENDAR
