BEGIN:VCALENDAR
VERSION:2.0
PRODID:-//ChamberMaster//Event Calendar 2.0//EN
METHOD:PUBLISH
X-PUBLISHED-TTL:P3D
REFRESH-INTERVAL:P3D
CALSCALE:GREGORIAN
BEGIN:VEVENT
DTSTART:20120218T183000Z
DTEND:20120218T200000Z
X-MICROSOFT-CDO-ALLDAYEVENT:FALSE
SUMMARY:WEED APPRECIATION DAY!
DESCRIPTION:with Deva Luna	 $31        Click http://weedappreciationday.eventbrite.com/ to register or call 650-493-6072.\nWEEDS -Eat ‘em and Reap! There's another way to deal with plentiful weeds: harvest and eat them! Deva Luna will teach you which weeds are edible\, nutritious and safe to eat\, share weed recipes and harvesting tips. You will cook and eat some during class! You can bring weeds with you to identify. She will also talk about organic weed control. If you can't beat 'em\, join 'em!
X-ALT-DESC;FMTTYPE=text/html:with Deva Luna	 $31        Click http://weedappreciationday.eventbrite.com/ to register or call 650-493-6072.\nWEEDS -Eat ‘em and Reap! There's another way to deal with plentiful weeds: harvest and eat them! Deva Luna will teach you which weeds are edible\, nutritious and safe to eat\, share weed recipes and harvesting tips. You will cook and eat some during class! You can bring weeds with you to identify. She will also talk about organic weed control. If you can't beat 'em\, join 'em!  
LOCATION:Common Ground Garden Supply and Education Center\, Palo Alto\, CA 94306
UID:e.2469.1131
SEQUENCE:3
DTSTAMP:20260425T213748Z
URL:https://business.paloaltochamber.com/events/details/weed-appreciation-day-02-18-2012-1131
END:VEVENT

END:VCALENDAR
