BEGIN:VCALENDAR
VERSION:2.0
PRODID:-//ChamberMaster//Event Calendar 2.0//EN
METHOD:PUBLISH
X-PUBLISHED-TTL:P3D
REFRESH-INTERVAL:P3D
CALSCALE:GREGORIAN
BEGIN:VEVENT
DTSTART:20120525T170000Z
DTEND:20120709T000000Z
X-MICROSOFT-CDO-ALLDAYEVENT:FALSE
SUMMARY:Waste Not: A Curated Art Exhibit
DESCRIPTION:The Waste Not exhibition presents works from 15 artists using a variety of re-used and discarded materials\, ranging from old farm equipment to discarded plastic objects.  The theme of the show is no waste – less consumption\, and it focuses on the world of reusable materials. \n\nAna Lisa Hedstrom presents ''Our Wide Blue and Black Sea''\, a dye sublimation print on manipulated eco-felt. She explains ''Artists have looked to the beauty of nature with awe\, romance\, reverence\, and trust. Today\, with our knowledge of the effects of global warming\, our view of nature is more complex.  Our Wide Blue-and Black-Sea…expresses this dichotomy between the beauty of what we see and the fragility below the surface.''\n\nOther highlights include Marianne Lettieri's ''Mantle of Iniquities''\, a mixed media piece resembling a medieval surplice composed of hundreds of discarded objects\, and Gregory Farrar Scott's absurd and comical ''Urban Mask Series''\, constructed from recycled bicycle helmets. \n\nThe Gallery is a light-filled venue in a converted warehouse space located at 935 Industrial Avenue (off E. Charleston near the San Antonio intersection). The Waste Not opening reception will run from 6:00 p.m. to 8:00pm on Thursday\, May 24\, 2012. The Gallery is open from 10:00 a.m. to 5:00 p.m. Tuesday through Saturday and features over a dozen exhibits a year.
X-ALT-DESC;FMTTYPE=text/html:The Waste Not exhibition presents works from 15 artists using a variety of re-used and discarded materials\, ranging from old farm equipment to discarded plastic objects.  The theme of the show is no waste – less consumption\, and it focuses on the world of reusable materials. \n\nAna Lisa Hedstrom presents ''Our Wide Blue and Black Sea''\, a dye sublimation print on manipulated eco-felt. She explains ''Artists have looked to the beauty of nature with awe\, romance\, reverence\, and trust. Today\, with our knowledge of the effects of global warming\, our view of nature is more complex.  Our Wide Blue-and Black-Sea…expresses this dichotomy between the beauty of what we see and the fragility below the surface.''\n\nOther highlights include Marianne Lettieri's ''Mantle of Iniquities''\, a mixed media piece resembling a medieval surplice composed of hundreds of discarded objects\, and Gregory Farrar Scott's absurd and comical ''Urban Mask Series''\, constructed from recycled bicycle helmets. \n\nThe Gallery is a light-filled venue in a converted warehouse space located at 935 Industrial Avenue (off E. Charleston near the San Antonio intersection). The Waste Not opening reception will run from 6:00 p.m. to 8:00pm on Thursday\, May 24\, 2012. The Gallery is open from 10:00 a.m. to 5:00 p.m. Tuesday through Saturday and features over a dozen exhibits a year. \n
LOCATION:935 Industrial Avenue\, Palo Alto\, CA 94303
UID:e.2469.1224
SEQUENCE:3
DTSTAMP:20260426T025305Z
URL:https://business.paloaltochamber.com/events/details/waste-not-a-curated-art-exhibit-05-25-2012-1224
END:VEVENT

END:VCALENDAR
