BEGIN:VCALENDAR
VERSION:2.0
PRODID:-//ChamberMaster//Event Calendar 2.0//EN
METHOD:PUBLISH
X-PUBLISHED-TTL:P3D
REFRESH-INTERVAL:P3D
CALSCALE:GREGORIAN
BEGIN:VEVENT
DTSTART:20120505T170000Z
DTEND:20120505T213000Z
X-MICROSOFT-CDO-ALLDAYEVENT:FALSE
SUMMARY:Vintage Vehicles and Family Festival
DESCRIPTION:The Museum of American Heritage (MOAH) presents the 8th Annual Vintage Vehicle and Family Festival (VVFF) on May 5th 2012 from 10:30am until 2:30 pm on Homer Avenue in Downtown Palo Alto. This free annual community event is being hosted in collaboration with the City of Palo Alto's 90th May Fete Parade and Community Festival. \n Rare\, vintage cars and motorcycles will be on display for the public to enjoy. To round out the celebrations\, MOAH will be hosting an open house featuring meccano models\, hands-on science demonstrations\, and other family friendly activities. The museum's feature exhibition\, Antique Toys\, 1870-1930\, will be open for viewing.
X-ALT-DESC;FMTTYPE=text/html:The Museum of American Heritage (MOAH) presents the 8th Annual Vintage Vehicle and Family Festival (VVFF) on May 5th 2012 from 10:30am until 2:30 pm on Homer Avenue in Downtown Palo Alto. This free annual community event is being hosted in collaboration with the City of Palo Alto's 90th May Fete Parade and Community Festival. \n Rare\, vintage cars and motorcycles will be on display for the public to enjoy. To round out the celebrations\, MOAH will be hosting an open house featuring meccano models\, hands-on science demonstrations\, and other family friendly activities. The museum's feature exhibition\, Antique Toys\, 1870-1930\, will be open for viewing. \n
LOCATION:Museum of American Heritage\, Palo Alto\, CA 94301
UID:e.2469.1201
SEQUENCE:3
DTSTAMP:20260426T025647Z
URL:https://business.paloaltochamber.com/events/details/vintage-vehicles-and-family-festival-05-05-2012-1201
END:VEVENT

END:VCALENDAR
