BEGIN:VCALENDAR
VERSION:2.0
PRODID:-//ChamberMaster//Event Calendar 2.0//EN
METHOD:PUBLISH
X-PUBLISHED-TTL:P3D
REFRESH-INTERVAL:P3D
CALSCALE:GREGORIAN
BEGIN:VEVENT
DTSTART:20120303T183000Z
DTEND:20120303T200000Z
X-MICROSOFT-CDO-ALLDAYEVENT:FALSE
SUMMARY:USING NATIVE PLANTS
DESCRIPTION:with Delmar McComb		$31        Click http://usingnativeplants2012.eventbrite.com/ to register or call 650-493-6072.\nExplore using California native plants in the garden for their beauty and appropriateness in our Mediterranean climate\, while gaining a deeper respect for nature and our place in it. Descriptions and cultural information of natives that work well in the Bay Area will be covered along with specific uses and innovative design ideas. Included will be a summary of Native American views\; their approach towards the landscape along with their uses of plants as sources of food\, dyes\, medicines\, and fiber.
X-ALT-DESC;FMTTYPE=text/html:with Delmar McComb		$31        Click http://usingnativeplants2012.eventbrite.com/ to register or call 650-493-6072.\nExplore using California native plants in the garden for their beauty and appropriateness in our Mediterranean climate\, while gaining a deeper respect for nature and our place in it. Descriptions and cultural information of natives that work well in the Bay Area will be covered along with specific uses and innovative design ideas. Included will be a summary of Native American views\; their approach towards the landscape along with their uses of plants as sources of food\, dyes\, medicines\, and fiber.
LOCATION:Common Ground Garden Supply and Education Center\, Palo Alto\, CA 94306
UID:e.2469.1130
SEQUENCE:3
DTSTAMP:20260425T232027Z
URL:https://business.paloaltochamber.com/events/details/using-native-plants-03-03-2012-1130
END:VEVENT

END:VCALENDAR
