BEGIN:VCALENDAR
VERSION:2.0
PRODID:-//ChamberMaster//Event Calendar 2.0//EN
METHOD:PUBLISH
X-PUBLISHED-TTL:P3D
REFRESH-INTERVAL:P3D
CALSCALE:GREGORIAN
BEGIN:VEVENT
DTSTART:20120429T190000Z
DTEND:20120429T193000Z
X-MICROSOFT-CDO-ALLDAYEVENT:FALSE
SUMMARY:THERESA LYNGSO SPEAKS AT COMMON GROUND
DESCRIPTION:In conjunction with the BAY-FRIENDLY GARDEN TOUR\,\n''It All Starts With the Soil—Every Garden Can Be\nBay-Friendly.'' Theresa will give an overview of\nlife in the soil\, the benefits of healthy living soil\nand what you can do to support soil life so plants\nthrive. Healthy\, living soil means cleaner water\,\nbetter water sequestration in the soil\, more\ndisease-resistant plants\, and more nutritious food\nfor you and your family. Teresa has been president of\nLyngso Garden Materials\, Inc.\, for 20 years.\n\nSunday\, April 29\, 12:00 pm\, no charge for talk only!\n\nApril 29\, 10 – 4. To register for the tour\, go to\nwww.bayfriendlycoalition.org. Guidebook costs $10.
X-ALT-DESC;FMTTYPE=text/html:In conjunction with the BAY-FRIENDLY GARDEN TOUR\,\n''It All Starts With the Soil—Every Garden Can Be\nBay-Friendly.'' Theresa will give an overview of\nlife in the soil\, the benefits of healthy living soil\nand what you can do to support soil life so plants\nthrive. Healthy\, living soil means cleaner water\,\nbetter water sequestration in the soil\, more\ndisease-resistant plants\, and more nutritious food\nfor you and your family. Teresa has been president of\nLyngso Garden Materials\, Inc.\, for 20 years.\n\nSunday\, April 29\, 12:00 pm\, no charge for talk only!\n\nApril 29\, 10 – 4. To register for the tour\, go to\nwww.bayfriendlycoalition.org. Guidebook costs $10.
LOCATION:559 College Ave.\, Palo Alto\, C 94306
UID:e.2469.1173
SEQUENCE:3
DTSTAMP:20260426T025304Z
URL:https://business.paloaltochamber.com/events/details/theresa-lyngso-speaks-at-common-ground-04-29-2012-1173
END:VEVENT

END:VCALENDAR
