BEGIN:VCALENDAR
VERSION:2.0
PRODID:-//ChamberMaster//Event Calendar 2.0//EN
METHOD:PUBLISH
X-PUBLISHED-TTL:P3D
REFRESH-INTERVAL:P3D
CALSCALE:GREGORIAN
BEGIN:VEVENT
DTSTART:20111009T210000Z
DTEND:20111009T230000Z
X-MICROSOFT-CDO-ALLDAYEVENT:FALSE
SUMMARY:The School Fund's 2nd Birthday Party!
DESCRIPTION:Come celebrate The School Fund's 2nd Birthday! Join our local youth\, college students and Paly grads and see asset-building in action. Founded in 2009\, The School Fund has made incredible progress\, operating in 10 countries via a network of dedicated NGO partners\, and has grown to a team of over 20 volunteers. We were recognized this past April by President Bill Clinton and we'd like to share all this and more with you! Bring a friend\, enjoy food and beverages and learn how you can participate. Many thanks for your support!
X-ALT-DESC;FMTTYPE=text/html:Come celebrate The School Fund's 2nd Birthday! Join our local youth\, college students and Paly grads and see asset-building in action. Founded in 2009\, The School Fund has made incredible progress\, operating in 10 countries via a network of dedicated NGO partners\, and has grown to a team of over 20 volunteers. We were recognized this past April by President Bill Clinton and we'd like to share all this and more with you! Bring a friend\, enjoy food and beverages and learn how you can participate. Many thanks for your support!
LOCATION:1305 Middlefield Road\, Palo Alto\, CA 94301
UID:e.2469.1105
SEQUENCE:3
DTSTAMP:20260425T152540Z
URL:https://business.paloaltochamber.com/events/details/the-school-fund-s-2nd-birthday-party-10-09-2011-1105
END:VEVENT

END:VCALENDAR
