BEGIN:VCALENDAR
VERSION:2.0
PRODID:-//ChamberMaster//Event Calendar 2.0//EN
METHOD:PUBLISH
X-PUBLISHED-TTL:P3D
REFRESH-INTERVAL:P3D
CALSCALE:GREGORIAN
BEGIN:VEVENT
DTSTART:20111111T040000Z
DTEND:20111111T040000Z
X-MICROSOFT-CDO-ALLDAYEVENT:FALSE
SUMMARY:Stones In His Pockets by Marie Jones
DESCRIPTION:Combine a Hollywood film crew\, a small Irish town\, fifteen characters\, and only two talented actors\, and you have Stones In His Pockets\, a funny and moving play that explores sadness\, the dangerous allure of Hollywood\, and the goodness of real life.\n\nDirected by: Meredith Hagedorn\n \nFeaturing:\nRobert Campbell as Jake Quinn\nTom Gough as Charlie Conlon\n\nProduction Staff:\n\nExecutive Producer:  Meredith Hagedorn\nStage Manager: Elizabeth Durst\nSet Designer: Meredith Hagedorn\nLighting Designer: Steve Shumway\nSound Designer: Jeffrey Lo\nCostume Designer: Erin Haney\nGraphic Designer: Tiffany Taylor\n \nNov. 11 – Dec. 4\, 2011\n\nThursdays – Saturdays @ 8pm\, Sundays @ 2pm\n\nPay-What-You-Can Preview Thursday\, November 10th\nOpening Night Gala following the November 11th performance\nPost-show discussion with the director and cast after on November 27th\n\nPlease note: Sunday\, December 4th is SOLD OUT. \n\nBuy your tickets today online at http://www.brownpapertickets.com/event/144403 or by calling 1-800-838-3006!\n\nFree street parking after 3pm\, free parking garage on the corner of Alma St. & University Ave.\, or $4 to park across the street in the Caltrain parking lot.
X-ALT-DESC;FMTTYPE=text/html:Combine a Hollywood film crew\, a small Irish town\, fifteen characters\, and only two talented actors\, and you have Stones In His Pockets\, a funny and moving play that explores sadness\, the dangerous allure of Hollywood\, and the goodness of real life.\n\nDirected by: Meredith Hagedorn\n \nFeaturing:\nRobert Campbell as Jake Quinn\nTom Gough as Charlie Conlon\n\nProduction Staff:\n\nExecutive Producer:  Meredith Hagedorn\nStage Manager: Elizabeth Durst\nSet Designer: Meredith Hagedorn\nLighting Designer: Steve Shumway\nSound Designer: Jeffrey Lo\nCostume Designer: Erin Haney\nGraphic Designer: Tiffany Taylor\n \nNov. 11 – Dec. 4\, 2011\n\nThursdays – Saturdays @ 8pm\, Sundays @ 2pm\n\nPay-What-You-Can Preview Thursday\, November 10th\nOpening Night Gala following the November 11th performance\nPost-show discussion with the director and cast after on November 27th\n\nPlease note: Sunday\, December 4th is SOLD OUT. \n\nBuy your tickets today online at http://www.brownpapertickets.com/event/144403 or by calling 1-800-838-3006!\n\nFree street parking after 3pm\, free parking garage on the corner of Alma St. & University Ave.\, or $4 to park across the street in the Caltrain parking lot.
LOCATION:535 Alma St.\, Palo Alto\, CA 94301
UID:e.2469.1116
SEQUENCE:3
DTSTAMP:20260425T171154Z
URL:https://business.paloaltochamber.com/events/details/stones-in-his-pockets-by-marie-jones-11-10-2011-1116
END:VEVENT

END:VCALENDAR
