BEGIN:VCALENDAR
VERSION:2.0
PRODID:-//ChamberMaster//Event Calendar 2.0//EN
METHOD:PUBLISH
X-PUBLISHED-TTL:P3D
REFRESH-INTERVAL:P3D
CALSCALE:GREGORIAN
BEGIN:VEVENT
DTSTART:20120505T173000Z
DTEND:20120505T203000Z
X-MICROSOFT-CDO-ALLDAYEVENT:FALSE
SUMMARY:STARTING AN HERB GARDEN
DESCRIPTION:You will be greeted with freshly harvested herbal tea.\nLearn easy ways to include herbs in tea and your\ncooking. Sample these herbs in a salad. Learn how to\nplant\, tend\, harvest\, and use these herbs for healing.\nLearn organic plant care\, which herbs grow well\ntogether in the garden\, and how to create a container\nherb garden. Taught by Jody Main. Jody will talk you through the tricks and\ntreats of making super-special herbal salads. You will\ntake home recipes\, a plant list\, and everyone will\nplant herb cuttings and seeds to take home and grow.\nJody is a local food and garden writer\, educator and\nconsultant. She manages ongoing organic veggie\, herb\,\nberry and container gardens at private residences.\n\nJody Main Saturday\, May 5\n10:30 – 1:30 $39 + $4 Materials fee
X-ALT-DESC;FMTTYPE=text/html:You will be greeted with freshly harvested herbal tea.\nLearn easy ways to include herbs in tea and your\ncooking. Sample these herbs in a salad. Learn how to\nplant\, tend\, harvest\, and use these herbs for healing.\nLearn organic plant care\, which herbs grow well\ntogether in the garden\, and how to create a container\nherb garden. Taught by Jody Main. Jody will talk you through the tricks and\ntreats of making super-special herbal salads. You will\ntake home recipes\, a plant list\, and everyone will\nplant herb cuttings and seeds to take home and grow.\nJody is a local food and garden writer\, educator and\nconsultant. She manages ongoing organic veggie\, herb\,\nberry and container gardens at private residences.\n\nJody Main Saturday\, May 5\n10:30 – 1:30 $39 + $4 Materials fee
LOCATION:559 College Ave.\, Palo Alto\, C 94306
UID:e.2469.1191
SEQUENCE:3
DTSTAMP:20260426T025218Z
URL:https://business.paloaltochamber.com/events/details/starting-an-herb-garden-05-05-2012-1191
END:VEVENT

END:VCALENDAR
