BEGIN:VCALENDAR
VERSION:2.0
PRODID:-//ChamberMaster//Event Calendar 2.0//EN
METHOD:PUBLISH
X-PUBLISHED-TTL:P3D
REFRESH-INTERVAL:P3D
CALSCALE:GREGORIAN
BEGIN:VEVENT
DTSTART:20120324T173000Z
DTEND:20120324T190000Z
X-MICROSOFT-CDO-ALLDAYEVENT:FALSE
SUMMARY:STARTING A VEGGIE GARDEN
DESCRIPTION:with Pam Scott		  	$31        \nTo register click Starting a Veggie Garden or call 650-493-6072\nWhat to know before you start an organic veggie garden! Learn veggie gardening basics for a more fruitful\, less frustrating experience as an organic gardener. Pam will cover all of the fundamentals: better soil\, composting\, optimal watering guidelines\, starting seeds and choosing plants. Recommended for first-time gardeners or moderately experienced gardeners looking for a boost in the basics. As an adult she has enthusiastically embraced organic gardening practices and grows much of her own food.
X-ALT-DESC;FMTTYPE=text/html:with Pam Scott		  	$31        \nTo register click Starting a Veggie Garden or call 650-493-6072\nWhat to know before you start an organic veggie garden! Learn veggie gardening basics for a more fruitful\, less frustrating experience as an organic gardener. Pam will cover all of the fundamentals: better soil\, composting\, optimal watering guidelines\, starting seeds and choosing plants. Recommended for first-time gardeners or moderately experienced gardeners looking for a boost in the basics. As an adult she has enthusiastically embraced organic gardening practices and grows much of her own food. \n
LOCATION:Common Ground Garden Supply and Education Center\, Palo Alto\, CA 94306
UID:e.2469.1133
SEQUENCE:3
DTSTAMP:20260425T232336Z
URL:https://business.paloaltochamber.com/events/details/starting-a-veggie-garden-03-24-2012-1133
END:VEVENT

END:VCALENDAR
