BEGIN:VCALENDAR
VERSION:2.0
PRODID:-//ChamberMaster//Event Calendar 2.0//EN
METHOD:PUBLISH
X-PUBLISHED-TTL:P3D
REFRESH-INTERVAL:P3D
CALSCALE:GREGORIAN
BEGIN:VEVENT
DTSTART:20120204T183000Z
DTEND:20120204T203000Z
X-MICROSOFT-CDO-ALLDAYEVENT:FALSE
SUMMARY:STARTING A VEGGIE GARDEN
DESCRIPTION:with Pam Scott		$31        Click http://startingaveggiegarden.eventbrite.com/ to register or call 650-493-6072.\nWhat to know before you start an organic veggie garden! Learn veggie gardening basics for a more fruitful\, less frustrating experience as an organic gardener. Pam will cover all of the fundamentals: better soil\, composting\, optimal watering guidelines\, starting seeds and choosing plants. Recommended for first time gardeners or moderately experienced gardeners looking for a boost in the basics.
X-ALT-DESC;FMTTYPE=text/html:with Pam Scott		$31        Click http://startingaveggiegarden.eventbrite.com/ to register or call 650-493-6072.\nWhat to know before you start an organic veggie garden! Learn veggie gardening basics for a more fruitful\, less frustrating experience as an organic gardener. Pam will cover all of the fundamentals: better soil\, composting\, optimal watering guidelines\, starting seeds and choosing plants. Recommended for first time gardeners or moderately experienced gardeners looking for a boost in the basics.
LOCATION:Common Ground Garden Supply and Education Center\, Palo Alto\, CA 94306
UID:e.2469.1129
SEQUENCE:3
DTSTAMP:20260425T213825Z
URL:https://business.paloaltochamber.com/events/details/starting-a-veggie-garden-02-04-2012-1129
END:VEVENT

END:VCALENDAR
