BEGIN:VCALENDAR
VERSION:2.0
PRODID:-//ChamberMaster//Event Calendar 2.0//EN
METHOD:PUBLISH
X-PUBLISHED-TTL:P3D
REFRESH-INTERVAL:P3D
CALSCALE:GREGORIAN
BEGIN:VEVENT
DTSTART:20120520T020000Z
DTEND:20120520T050000Z
X-MICROSOFT-CDO-ALLDAYEVENT:FALSE
SUMMARY:Starry Night: An Art Auction to Benefit Deborah's Palm
DESCRIPTION:Join us for a spectacular event\, as we feature local artists in a silent and live auction format. Many artists will be on hand to talk about their work. We will have live music by "Farouche"\, appetizers provided by Joya & La Strada Restaurants\, desserts & wine tasting\, door prizes and much more. Tickets are on sale now ($40) and each ticket purchase enters you into a drawing for a Kindle Touch. All proceeds will go to Deborah's Palm\, the Peninsula's only non-profit women's community center. Please join us!
X-ALT-DESC;FMTTYPE=text/html:Join us for a spectacular event\, as we feature local artists in a silent and live auction format. Many artists will be on hand to talk about their work. We will have live music by "Farouche"\, appetizers provided by Joya & La Strada Restaurants\, desserts & wine tasting\, door prizes and much more. Tickets are on sale now ($40) and each ticket purchase enters you into a drawing for a Kindle Touch. All proceeds will go to Deborah's Palm\, the Peninsula's only non-profit women's community center. Please join us!
LOCATION:555 Waverley\, Palo Alto\, CA 94301
UID:e.2469.1208
SEQUENCE:3
DTSTAMP:20260426T025438Z
URL:https://business.paloaltochamber.com/events/details/starry-night-an-art-auction-to-benefit-deborah-s-palm-05-19-2012-1208
END:VEVENT

END:VCALENDAR
