BEGIN:VCALENDAR
VERSION:2.0
PRODID:-//ChamberMaster//Event Calendar 2.0//EN
METHOD:PUBLISH
X-PUBLISHED-TTL:P3D
REFRESH-INTERVAL:P3D
CALSCALE:GREGORIAN
BEGIN:VEVENT
DTSTART:20120223T220000Z
DTEND:20120224T020000Z
X-MICROSOFT-CDO-ALLDAYEVENT:FALSE
SUMMARY:Stanford Blood Drive at the OFJCC
DESCRIPTION:Blood donors get the satisfaction of knowing they've helped to provide hope and life to a patient in a local hospital. Each donor will also receive a coupon for a free pint of Baskin Robbins ice cream. The Blood Drive takes place on the second floor of the Fitness Center.
X-ALT-DESC;FMTTYPE=text/html:Blood donors get the satisfaction of knowing they've helped to provide hope and life to a patient in a local hospital. Each donor will also receive a coupon for a free pint of Baskin Robbins ice cream. The Blood Drive takes place on the second floor of the Fitness Center.
LOCATION:3921 Fabian Way\, Palo Alto\, CA 94303
UID:e.2469.1161
SEQUENCE:3
DTSTAMP:20260425T214135Z
URL:https://business.paloaltochamber.com/events/details/stanford-blood-drive-at-the-ofjcc-02-23-2012-1161
END:VEVENT

END:VCALENDAR
