BEGIN:VCALENDAR
VERSION:2.0
PRODID:-//ChamberMaster//Event Calendar 2.0//EN
METHOD:PUBLISH
X-PUBLISHED-TTL:P3D
REFRESH-INTERVAL:P3D
CALSCALE:GREGORIAN
BEGIN:VEVENT
DTSTART:20110611T190000Z
DTEND:20110611T210000Z
X-MICROSOFT-CDO-ALLDAYEVENT:FALSE
SUMMARY:SOLAR COOKING
DESCRIPTION:Register at http://solarcookingclass.eventbrite.com/ or by calling 650-493-6072. Cost $31 + $4 materials fee. Prepare delicious sun-cooked meals using fresh produce from your garden. Create easy soups\, breads\, healthy snacks and glorious grain dishes. Modify your favorite recipes for solar ovens. Participate in a hands-on demonstration of aiming\, pre-heating\, and cooking using the "Global Sun Oven" and "Solar Cookit." Both ovens are available for purchase at Common Ground. Recipes included. Don is knowledgeable and experienced in cooking with a variety of solar ovens. At home he uses a solar water distiller and a solar drier\, and generates his electricity using a 2-kilowatt solar photo-voltaic array.
X-ALT-DESC;FMTTYPE=text/html:Register at http://solarcookingclass.eventbrite.com/ or by calling 650-493-6072. Cost $31 + $4 materials fee. Prepare delicious sun-cooked meals using fresh produce from your garden. Create easy soups\, breads\, healthy snacks and glorious grain dishes. Modify your favorite recipes for solar ovens. Participate in a hands-on demonstration of aiming\, pre-heating\, and cooking using the "Global Sun Oven" and "Solar Cookit." Both ovens are available for purchase at Common Ground. Recipes included. Don is knowledgeable and experienced in cooking with a variety of solar ovens. At home he uses a solar water distiller and a solar drier\, and generates his electricity using a 2-kilowatt solar photo-voltaic array. \n
LOCATION:559 College Ave.\, Palo Alto\, CA 94306
UID:e.2469.1059
SEQUENCE:3
DTSTAMP:20260425T102338Z
URL:https://business.paloaltochamber.com/events/details/solar-cooking-06-11-2011-1059
END:VEVENT

END:VCALENDAR
