BEGIN:VCALENDAR
VERSION:2.0
PRODID:-//ChamberMaster//Event Calendar 2.0//EN
METHOD:PUBLISH
X-PUBLISHED-TTL:P3D
REFRESH-INTERVAL:P3D
CALSCALE:GREGORIAN
BEGIN:VEVENT
DTSTART:20111119T183000Z
DTEND:20111119T203000Z
X-MICROSOFT-CDO-ALLDAYEVENT:FALSE
SUMMARY:SOIL FOODWEB
DESCRIPTION:$31\nClick http://soilfoodwebclass.eventbrite.com to register or call 650-493-6072\nLearn how to greatly boost your garden's health through increasing biological life. There is a whole universe of living organisms under your feet. Soil contains essential life you can either support or undo through your gardening practices. Learn how to increase and nurture the aerobic organisms that make fertile soil. When you have a healthy soil foodweb the plants in your garden will be much healthier and the food more nutritious for you and your family.
X-ALT-DESC;FMTTYPE=text/html:$31\nClick http://soilfoodwebclass.eventbrite.com to register or call 650-493-6072\nLearn how to greatly boost your garden's health through increasing biological life. There is a whole universe of living organisms under your feet. Soil contains essential life you can either support or undo through your gardening practices. Learn how to increase and nurture the aerobic organisms that make fertile soil. When you have a healthy soil foodweb the plants in your garden will be much healthier and the food more nutritious for you and your family.
LOCATION:559 College Ave.\, Palo Alto\, CA 94306
UID:e.2469.1103
SEQUENCE:3
DTSTAMP:20260425T170510Z
URL:https://business.paloaltochamber.com/events/details/soil-foodweb-11-19-2011-1103
END:VEVENT

END:VCALENDAR
