BEGIN:VCALENDAR
VERSION:2.0
PRODID:-//ChamberMaster//Event Calendar 2.0//EN
METHOD:PUBLISH
X-PUBLISHED-TTL:P3D
REFRESH-INTERVAL:P3D
CALSCALE:GREGORIAN
BEGIN:VEVENT
DTSTART:20111230T190000Z
DTEND:20111230T080000Z
X-MICROSOFT-CDO-ALLDAYEVENT:FALSE
SUMMARY:Senior New Year's Eve Day Bash
DESCRIPTION:Celebrate the New Year one day early with dancing and a buffet lunch.  Festivities are from 11:00-2pm with a champagne toast at 1:30pm.  Tickets available at the Lucie Stern Community\, Cubberley Community Center\, Senior Friendship Day\, Avenidas Senior Center and the Oshman Family Jewish Community Center.
X-ALT-DESC;FMTTYPE=text/html:Celebrate the New Year one day early with dancing and a buffet lunch.  Festivities are from 11:00-2pm with a champagne toast at 1:30pm.  Tickets available at the Lucie Stern Community\, Cubberley Community Center\, Senior Friendship Day\, Avenidas Senior Center and the Oshman Family Jewish Community Center.
LOCATION:3921 Fabian Way\, Palo Alto\, CA 94303
UID:e.2469.1143
SEQUENCE:3
DTSTAMP:20260425T183106Z
URL:https://business.paloaltochamber.com/events/details/senior-new-year-s-eve-day-bash-12-30-2011-1143
END:VEVENT

END:VCALENDAR
