BEGIN:VCALENDAR
VERSION:2.0
PRODID:-//ChamberMaster//Event Calendar 2.0//EN
METHOD:PUBLISH
X-PUBLISHED-TTL:P3D
REFRESH-INTERVAL:P3D
CALSCALE:GREGORIAN
BEGIN:VEVENT
DTSTART:20120331T173000Z
DTEND:20120331T193000Z
X-MICROSOFT-CDO-ALLDAYEVENT:FALSE
SUMMARY:SEED PROPAGATION
DESCRIPTION:with John Jeavons	   $31        Click http://seedpropagation2012.eventbrite.com/ to register or call 650-493-6072.\nIt all begins with a seed! Learning GROW BIOINTENSIVE seed propagation techniques will help you have a more productive and efficient garden. This class will explain how to make your own healthy flat soil\, transplanting\, pricking out seedlings from flats\, and proper watering.
X-ALT-DESC;FMTTYPE=text/html:with John Jeavons	   $31        Click http://seedpropagation2012.eventbrite.com/ to register or call 650-493-6072.\nIt all begins with a seed! Learning GROW BIOINTENSIVE seed propagation techniques will help you have a more productive and efficient garden. This class will explain how to make your own healthy flat soil\, transplanting\, pricking out seedlings from flats\, and proper watering. 
LOCATION:Common Ground Garden Supply and Education Center\, Palo Alto\, CA 94306
UID:e.2469.1135
SEQUENCE:3
DTSTAMP:20260425T232056Z
URL:https://business.paloaltochamber.com/events/details/seed-propagation-03-31-2012-1135
END:VEVENT

END:VCALENDAR
