BEGIN:VCALENDAR
VERSION:2.0
PRODID:-//ChamberMaster//Event Calendar 2.0//EN
METHOD:PUBLISH
X-PUBLISHED-TTL:P3D
REFRESH-INTERVAL:P3D
CALSCALE:GREGORIAN
BEGIN:VEVENT
DTSTART:20110108T183000Z
DTEND:20110108T203000Z
X-MICROSOFT-CDO-ALLDAYEVENT:FALSE
SUMMARY:SEED PROPAGATION
DESCRIPTION:To register call 650-493-6072 or http://seedprop.eventbrite.com/ Cost $31\nIt all begins with a seed! Learning GROW BIOINTENSIVE seed propagation techniques will help you have a more productive and efficient garden. This class will explain how to make your own healthy flat soil\, transplanting\, pricking out seedlings from flats\, and proper watering.
X-ALT-DESC;FMTTYPE=text/html:To register call 650-493-6072 or http://seedprop.eventbrite.com/ Cost $31\nIt all begins with a seed! Learning GROW BIOINTENSIVE seed propagation techniques will help you have a more productive and efficient garden. This class will explain how to make your own healthy flat soil\, transplanting\, pricking out seedlings from flats\, and proper watering.
LOCATION:559 College Ave.\, Palo Alto\, CA 94306
UID:e.2469.1032
SEQUENCE:3
DTSTAMP:20260425T003305Z
URL:https://business.paloaltochamber.com/events/details/seed-propagation-01-08-2011-1032
END:VEVENT

END:VCALENDAR
