BEGIN:VCALENDAR
VERSION:2.0
PRODID:-//ChamberMaster//Event Calendar 2.0//EN
METHOD:PUBLISH
X-PUBLISHED-TTL:P3D
REFRESH-INTERVAL:P3D
CALSCALE:GREGORIAN
BEGIN:VEVENT
DTSTART:20120407T173000Z
DTEND:20120407T193000Z
X-MICROSOFT-CDO-ALLDAYEVENT:FALSE
SUMMARY:SALAD UNIVERSITY
DESCRIPTION:Expand your awareness of useful plants for your\nhealth\, more-efficient gardening\, making use of\nedible weeds\, creating resilient ecologies\, and\nlowering medical bills. The class will move through\nthe garden to taste\, learn about\, and gather cultivated\nand wild plants (annual\, biennial and perennial) for a\n40-ingredient salad containing flowers\, herbs\, usual\nand unusual greens. We will cover some of the\nmedicinal properties. At the end we will share the\nsalad\, a blend of what we find along with other\ningredients. Learn about favorite seeds and plants to\nbe found at Common Ground. Taught by Bill Taylor and Jaye Moscariello who have operated Floodgate Farm since 2003. He and Jaye offer many classes\nup and down the Mendocino coast and beyond.\nClass meets at the Common Ground Garden.
X-ALT-DESC;FMTTYPE=text/html:Expand your awareness of useful plants for your\nhealth\, more-efficient gardening\, making use of\nedible weeds\, creating resilient ecologies\, and\nlowering medical bills. The class will move through\nthe garden to taste\, learn about\, and gather cultivated\nand wild plants (annual\, biennial and perennial) for a\n40-ingredient salad containing flowers\, herbs\, usual\nand unusual greens. We will cover some of the\nmedicinal properties. At the end we will share the\nsalad\, a blend of what we find along with other\ningredients. Learn about favorite seeds and plants to\nbe found at Common Ground. Taught by Bill Taylor and Jaye Moscariello who have operated Floodgate Farm since 2003. He and Jaye offer many classes\nup and down the Mendocino coast and beyond.\nClass meets at the Common Ground Garden.
LOCATION:687 Arastradero Rd.\, \, Palo Alto\, C 94306
UID:e.2469.1172
SEQUENCE:3
DTSTAMP:20260426T010850Z
URL:https://business.paloaltochamber.com/events/details/salad-university-04-07-2012-1172
END:VEVENT

END:VCALENDAR
