BEGIN:VCALENDAR
VERSION:2.0
PRODID:-//ChamberMaster//Event Calendar 2.0//EN
METHOD:PUBLISH
X-PUBLISHED-TTL:P3D
REFRESH-INTERVAL:P3D
CALSCALE:GREGORIAN
BEGIN:VEVENT
DTSTART:20120107T183000Z
DTEND:20120107T213000Z
X-MICROSOFT-CDO-ALLDAYEVENT:FALSE
SUMMARY:ROSE PRUNING AND CARE
DESCRIPTION:with Carole Kraft          $38          Click http://rosepruningandcare.eventbrite.com/ to register or call 650-493-6072.\nEncourage beautiful\, profuse flowering with winter pruning and proper care. Learn about the very best soil and amendments for healthy\, happy roses. Mulches are also discussed. The class will go to a nearby garden for a demonstration and some hands-on pruning. YOU BRING: a snack\, pruning shears optional.
X-ALT-DESC;FMTTYPE=text/html:with Carole Kraft          $38          Click http://rosepruningandcare.eventbrite.com/ to register or call 650-493-6072.\nEncourage beautiful\, profuse flowering with winter pruning and proper care. Learn about the very best soil and amendments for healthy\, happy roses. Mulches are also discussed. The class will go to a nearby garden for a demonstration and some hands-on pruning. YOU BRING: a snack\, pruning shears optional.
LOCATION:559 College Ave.\, Palo Alto\, CA 94306
UID:e.2469.1124
SEQUENCE:3
DTSTAMP:20260425T213747Z
URL:https://business.paloaltochamber.com/events/details/rose-pruning-and-care-01-07-2012-1124
END:VEVENT

END:VCALENDAR
