BEGIN:VCALENDAR
VERSION:2.0
PRODID:-//ChamberMaster//Event Calendar 2.0//EN
METHOD:PUBLISH
X-PUBLISHED-TTL:P3D
REFRESH-INTERVAL:P3D
CALSCALE:GREGORIAN
BEGIN:VEVENT
DTSTART:20111029T160000Z
DTEND:20111029T090000Z
X-MICROSOFT-CDO-ALLDAYEVENT:FALSE
SUMMARY:PreSchool Family 28th Annual Fun Day
DESCRIPTION:PreSchool Family and Young Fives hosts its 28th annual Family Fun Day on Sat\, Oct. 29th from 9:30a-2p. Fun for ALL Ages! Raffle\, Train rides\, Carnival games\, Magic shows\, Live music\, Food and Bake sale\, Used Book sale\, and more! Free admission\; Info: 650-856-0833. PreSchool Family Campus\, 4120 Middle?eld Road\, Palo Alto. www.psf.pausd.org
X-ALT-DESC;FMTTYPE=text/html:PreSchool Family and Young Fives hosts its 28th annual Family Fun Day on Sat\, Oct. 29th from 9:30a-2p. Fun for ALL Ages! Raffle\, Train rides\, Carnival games\, Magic shows\, Live music\, Food and Bake sale\, Used Book sale\, and more! Free admission\; Info: 650-856-0833. PreSchool Family Campus\, 4120 Middle?eld Road\, Palo Alto. www.psf.pausd.org
LOCATION:4120 Middle?eld Road\, Palo Alto\, CA 94303
UID:e.2469.1096
SEQUENCE:3
DTSTAMP:20260425T165545Z
URL:https://business.paloaltochamber.com/events/details/preschool-family-28th-annual-fun-day-10-29-2011-1096
END:VEVENT

END:VCALENDAR
