BEGIN:VCALENDAR
VERSION:2.0
PRODID:-//ChamberMaster//Event Calendar 2.0//EN
METHOD:PUBLISH
X-PUBLISHED-TTL:P3D
REFRESH-INTERVAL:P3D
CALSCALE:GREGORIAN
BEGIN:VEVENT
DTSTART:20120526T170000Z
DTEND:20120526T230000Z
X-MICROSOFT-CDO-ALLDAYEVENT:FALSE
SUMMARY:PopUp PLANT FAIR
DESCRIPTION:Meet the PopUp Plant Stars\, a unique\, new\ncollaboration of four small\, local\, owner operated\nnurseries. Carman's Nursery\n(celebrating its 75th anniversary with bonsai\nstarters\, dwarf conifers\, rock garden plants and\nunusual edibles)\, Cole Canyon Farm (organic\nculinary and medicinal herbs and veggie starts)\,\nGold Rush Nursery (plants that are water-wise\nand/or provide food or habitat for birds\,\nbutterflies and beneficial insects) and Terra Sole\nNurseries (a boutique nursery specializing in\nnew and old\, unusual\, and climate-appropriate\nperennials\, succulents and shrubs). Bring your\nquestions and talk with the people who actually\ngrow the plants. Shop with them and support\nCommon Ground at the same time—a\npercentage of all sales goes to Common\nGround. This is an amazing Plant Party!\n\nSaturday\, May 26\, 10:00 – 4:00
X-ALT-DESC;FMTTYPE=text/html:Meet the PopUp Plant Stars\, a unique\, new\ncollaboration of four small\, local\, owner operated\nnurseries. Carman's Nursery\n(celebrating its 75th anniversary with bonsai\nstarters\, dwarf conifers\, rock garden plants and\nunusual edibles)\, Cole Canyon Farm (organic\nculinary and medicinal herbs and veggie starts)\,\nGold Rush Nursery (plants that are water-wise\nand/or provide food or habitat for birds\,\nbutterflies and beneficial insects) and Terra Sole\nNurseries (a boutique nursery specializing in\nnew and old\, unusual\, and climate-appropriate\nperennials\, succulents and shrubs). Bring your\nquestions and talk with the people who actually\ngrow the plants. Shop with them and support\nCommon Ground at the same time—a\npercentage of all sales goes to Common\nGround. This is an amazing Plant Party!\n\nSaturday\, May 26\, 10:00 – 4:00
LOCATION:559 College Ave.\, Palo Alto\, C 94306
UID:e.2469.1178
SEQUENCE:3
DTSTAMP:20260426T025213Z
URL:https://business.paloaltochamber.com/events/details/popup-plant-fair-05-26-2012-1178
END:VEVENT

END:VCALENDAR
