BEGIN:VCALENDAR
VERSION:2.0
PRODID:-//ChamberMaster//Event Calendar 2.0//EN
METHOD:PUBLISH
X-PUBLISHED-TTL:P3D
REFRESH-INTERVAL:P3D
CALSCALE:GREGORIAN
BEGIN:VEVENT
DTSTART:20111022T173000Z
DTEND:20111022T193000Z
X-MICROSOFT-CDO-ALLDAYEVENT:FALSE
SUMMARY:PLANNING YOUR GARDEN WITH MASTER CHARTS
DESCRIPTION:$31\nClick http://controllinggophermolesvoles.eventbrite.com to register or call 650-493-6072\nThis seminar will cover the basic steps one can take to minimize or eliminate the damage to a garden\, farm or landscape from burrowing pest animals such as gophers\, voles\, moles and ground squirrels\, as well as other larger animals such as rabbits\, raccoons\, opossum\, skunks and deer. An interactive lecture with slides and videos of solutions such as sprays\, drenches\, noise makers and other non-violent methods\, plus a focus on live and lethal gopher trapping is designed to empower participants to do their own pest control.
X-ALT-DESC;FMTTYPE=text/html:$31\nClick http://controllinggophermolesvoles.eventbrite.com to register or call 650-493-6072\nThis seminar will cover the basic steps one can take to minimize or eliminate the damage to a garden\, farm or landscape from burrowing pest animals such as gophers\, voles\, moles and ground squirrels\, as well as other larger animals such as rabbits\, raccoons\, opossum\, skunks and deer. An interactive lecture with slides and videos of solutions such as sprays\, drenches\, noise makers and other non-violent methods\, plus a focus on live and lethal gopher trapping is designed to empower participants to do their own pest control.
LOCATION:559 College Ave.\, Palo Alto\, CA 94306
UID:e.2469.1099
SEQUENCE:3
DTSTAMP:20260425T151541Z
URL:https://business.paloaltochamber.com/events/details/planning-your-garden-with-master-charts-10-22-2011-1099
END:VEVENT

END:VCALENDAR
