BEGIN:VCALENDAR
VERSION:2.0
PRODID:-//ChamberMaster//Event Calendar 2.0//EN
METHOD:PUBLISH
X-PUBLISHED-TTL:P3D
REFRESH-INTERVAL:P3D
CALSCALE:GREGORIAN
BEGIN:VEVENT
DTSTART:20120310T183000Z
DTEND:20120310T203000Z
X-MICROSOFT-CDO-ALLDAYEVENT:FALSE
SUMMARY:PLANNING YOUR GARDEN WITH MASTER CHARTS
DESCRIPTION:with Mark House	         $31        Click http://gardenplanning.eventbrite.com/ to register or call 650-493-6072.\nThe Master Charts in How to Grow More Vegetables may look intimidating\, but they contain a lot of information that can help you use your garden space and grow your food more efficiently. This class will show you how to calculate the amount of seed to sow for the space you designate\, the number of flats you will need\, when to sow and transplant\, and more. You will need the 7th edition of How to Grow More Vegetables\, a calculator and a pencil.
X-ALT-DESC;FMTTYPE=text/html:with Mark House	         $31        Click http://gardenplanning.eventbrite.com/ to register or call 650-493-6072.\nThe Master Charts in How to Grow More Vegetables may look intimidating\, but they contain a lot of information that can help you use your garden space and grow your food more efficiently. This class will show you how to calculate the amount of seed to sow for the space you designate\, the number of flats you will need\, when to sow and transplant\, and more. You will need the 7th edition of How to Grow More Vegetables\, a calculator and a pencil. 
LOCATION:Common Ground Garden Supply and Education Center\, Palo Alto\, CA 94306
UID:e.2469.1136
SEQUENCE:3
DTSTAMP:20260426T011250Z
URL:https://business.paloaltochamber.com/events/details/planning-your-garden-with-master-charts-03-10-2012-1136
END:VEVENT

END:VCALENDAR
