BEGIN:VCALENDAR
VERSION:2.0
PRODID:-//ChamberMaster//Event Calendar 2.0//EN
METHOD:PUBLISH
X-PUBLISHED-TTL:P3D
REFRESH-INTERVAL:P3D
CALSCALE:GREGORIAN
BEGIN:VEVENT
DTSTART:20230312T010000Z
DTEND:20230312T030000Z
X-MICROSOFT-CDO-ALLDAYEVENT:FALSE
SUMMARY:Pathfinders\, An Evening with David Flink
DESCRIPTION:Compass High School is proud to host the first Pathfinders event\, celebrating trailblazers in education and raising awareness around the 1 in 5 of us that learn differently. Our inaugural event features David Flink\, a leader in the education of the complex learner and founder of Eye to Eye. He has been on the front lines bringing change to the way we teach and look at learning. Supporting Compass\, this event is open to all our adult friends and supporters 21+.
X-ALT-DESC;FMTTYPE=text/html:Compass High School is proud to host the first Pathfinders event\, celebrating trailblazers in education and raising awareness around the 1 in 5 of us that learn differently. Our inaugural event features David Flink\, a leader in the education of the complex learner and founder of Eye to Eye. He has been on the front lines bringing change to the way we teach and look at learning. Supporting Compass\, this event is open to all our adult friends and supporters 21+.
LOCATION:Mitchell Park Community Center\, El Palo Alto Room\, 3700 Middlefield Road Palo Alto CA
UID:e.2469.14033
SEQUENCE:3
DTSTAMP:20260421T234551Z
URL:https://business.paloaltochamber.com/events/details/pathfinders-an-evening-with-david-flink-14033
END:VEVENT

END:VCALENDAR
