BEGIN:VCALENDAR
VERSION:2.0
PRODID:-//ChamberMaster//Event Calendar 2.0//EN
METHOD:PUBLISH
X-PUBLISHED-TTL:P3D
REFRESH-INTERVAL:P3D
CALSCALE:GREGORIAN
BEGIN:VEVENT
DTSTART:20110619T220000Z
DTEND:20110620T023000Z
X-MICROSOFT-CDO-ALLDAYEVENT:FALSE
SUMMARY:Palo Alto World Music Day
DESCRIPTION:All performances are FREE and open to the public.\nAmateurs and professionals\, performed a variety of genres on street corners and plazas: jazz\, blues\, classical\, pop\, rock\, choral\, Celtic\, Klezmer\, Greek\, Balkan\, French\, Chinese\, World Music\, etc.
X-ALT-DESC;FMTTYPE=text/html:All performances are FREE and open to the public.\nAmateurs and professionals\, performed a variety of genres on street corners and plazas: jazz\, blues\, classical\, pop\, rock\, choral\, Celtic\, Klezmer\, Greek\, Balkan\, French\, Chinese\, World Music\, etc.
LOCATION:
UID:e.2469.1080
SEQUENCE:3
DTSTAMP:20260425T102824Z
URL:https://business.paloaltochamber.com/events/details/palo-alto-world-music-day-06-19-2011-1080
END:VEVENT

END:VCALENDAR
