BEGIN:VCALENDAR
VERSION:2.0
PRODID:-//ChamberMaster//Event Calendar 2.0//EN
METHOD:PUBLISH
X-PUBLISHED-TTL:P3D
REFRESH-INTERVAL:P3D
CALSCALE:GREGORIAN
BEGIN:VEVENT
DTSTART:20111211T210000Z
DTEND:20111212T000000Z
X-MICROSOFT-CDO-ALLDAYEVENT:FALSE
SUMMARY:Palo Alto Stanford Heritage 24th Annual Holiday House Tour
DESCRIPTION:College Terrace- Handsome residences* Neat Cottages* Notable Oaks\nEach of the eight buildings on this tour\, from Queen Anne to log cabin\, represents College Terrace at its individualistic best.  The homeowners on this tour have graciously agreed to share their houses and their respect for history with you.  While you're visiting the ''Handsome Residences'' and ''Neat Cottages'' of College Terrace\, take some time to admire the notable\, century oaks on these properties.
X-ALT-DESC;FMTTYPE=text/html:College Terrace- Handsome residences* Neat Cottages* Notable Oaks\nEach of the eight buildings on this tour\, from Queen Anne to log cabin\, represents College Terrace at its individualistic best.  The homeowners on this tour have graciously agreed to share their houses and their respect for history with you.  While you're visiting the ''Handsome Residences'' and ''Neat Cottages'' of College Terrace\, take some time to admire the notable\, century oaks on these properties.\n
LOCATION:2300 Wellsley Street\, Palo Alto\, Ca 94306
UID:e.2469.1115
SEQUENCE:3
DTSTAMP:20260425T183408Z
URL:https://business.paloaltochamber.com/events/details/palo-alto-stanford-heritage-24th-annual-holiday-house-tour-12-11-2011-1115
END:VEVENT

END:VCALENDAR
