BEGIN:VCALENDAR
VERSION:2.0
PRODID:-//ChamberMaster//Event Calendar 2.0//EN
METHOD:PUBLISH
X-PUBLISHED-TTL:P3D
REFRESH-INTERVAL:P3D
CALSCALE:GREGORIAN
BEGIN:VEVENT
DTSTART:20111023T030000Z
DTEND:20111023T030000Z
X-MICROSOFT-CDO-ALLDAYEVENT:FALSE
SUMMARY:Palo Alto Philharmonic Orchestra Concert
DESCRIPTION:The first full orchestra concert features piano soloist Péter Tóth playing Liszt's Totentanz. The concert also includes the Overture to Candide by Bernstein\, and Symphony No. 6 in B minor\, Op. 74 ‘Pathetique'  by Tchaikovsky. \nA pre-concert talk will hosted by Music Director Shoebotham at 7:30pm.\nGeneral Admission: $20 \nSenior Admission: $17 \nStudent Admission: $10
X-ALT-DESC;FMTTYPE=text/html:The first full orchestra concert features piano soloist Péter Tóth playing Liszt's Totentanz. The concert also includes the Overture to Candide by Bernstein\, and Symphony No. 6 in B minor\, Op. 74 ‘Pathetique'  by Tchaikovsky. \nA pre-concert talk will hosted by Music Director Shoebotham at 7:30pm.\nGeneral Admission: $20 \nSenior Admission: $17 \nStudent Admission: $10\n\n\n
LOCATION:Cubberley Theatre\, Palo Alto\, CA 94301
UID:e.2469.1107
SEQUENCE:3
DTSTAMP:20260425T165545Z
URL:https://business.paloaltochamber.com/events/details/palo-alto-philharmonic-orchestra-concert-10-22-2011-1107
END:VEVENT

END:VCALENDAR
