BEGIN:VCALENDAR
VERSION:2.0
PRODID:-//ChamberMaster//Event Calendar 2.0//EN
METHOD:PUBLISH
X-PUBLISHED-TTL:P3D
REFRESH-INTERVAL:P3D
CALSCALE:GREGORIAN
BEGIN:VEVENT
DTSTART:20110220T040000Z
DTEND:20110220T040000Z
X-MICROSOFT-CDO-ALLDAYEVENT:FALSE
SUMMARY:Palo Alto Philharmonic Orchestra Concert
DESCRIPTION:For the season's third concert the Philharmonic plays Mahler's Symphony No. 4. Soprano Nanette McGuinness will be the soloist in the Mahler and will also perform the Songs of the Auvergne\, Book 1 by the 19th century French composer Joseph Canteloube.
X-ALT-DESC;FMTTYPE=text/html:For the season's third concert the Philharmonic plays Mahler's Symphony No. 4. Soprano Nanette McGuinness will be the soloist in the Mahler and will also perform the Songs of the Auvergne\, Book 1 by the 19th century French composer Joseph Canteloube.
LOCATION:Cubberley Theatre\, Palo Alto\, CA 94043
UID:e.2469.961
SEQUENCE:3
DTSTAMP:20260425T023214Z
URL:https://business.paloaltochamber.com/events/details/palo-alto-philharmonic-orchestra-concert-02-19-2011-961
END:VEVENT

END:VCALENDAR
