BEGIN:VCALENDAR
VERSION:2.0
PRODID:-//ChamberMaster//Event Calendar 2.0//EN
METHOD:PUBLISH
X-PUBLISHED-TTL:P3D
REFRESH-INTERVAL:P3D
CALSCALE:GREGORIAN
BEGIN:VEVENT
DTSTART:20111202T030000Z
DTEND:20111202T060000Z
X-MICROSOFT-CDO-ALLDAYEVENT:FALSE
SUMMARY:Palo Alto Humane Society's 2011 Movie Event
DESCRIPTION:Palo Alto Humane Society presents Greyfriars Bobby\, a 1961 Disney film about a Skye terrier. Based on a century-old true story about a dog whose love and devotion transcends time. Red-carpet festivities will include costumes\, comedy\, and in honor of the movie's Scottish setting\, a live bagpiper! Tickets: $2.00 - call to reserve.\nThe event will be emceed by Hollywood producer and Emmy-nominated composer Phil Giffin.
X-ALT-DESC;FMTTYPE=text/html:Palo Alto Humane Society presents Greyfriars Bobby\, a 1961 Disney film about a Skye terrier. Based on a century-old true story about a dog whose love and devotion transcends time. Red-carpet festivities will include costumes\, comedy\, and in honor of the movie's Scottish setting\, a live bagpiper! Tickets: $2.00 - call to reserve.\nThe event will be emceed by Hollywood producer and Emmy-nominated composer Phil Giffin.
LOCATION:430 Emerson Street\, Palo Alto\, CA 94301
UID:e.2469.1118
SEQUENCE:3
DTSTAMP:20260425T183403Z
URL:https://business.paloaltochamber.com/events/details/palo-alto-humane-society-s-2011-movie-event-12-01-2011-1118
END:VEVENT

END:VCALENDAR
