BEGIN:VCALENDAR
VERSION:2.0
PRODID:-//ChamberMaster//Event Calendar 2.0//EN
METHOD:PUBLISH
X-PUBLISHED-TTL:P3D
REFRESH-INTERVAL:P3D
CALSCALE:GREGORIAN
BEGIN:VEVENT
DTSTART:20211204T180000Z
DTEND:20211205T000000Z
X-MICROSOFT-CDO-ALLDAYEVENT:FALSE
SUMMARY:Palo Alto Art Center Studio Holiday Sale
DESCRIPTION:The Palo Alto Art Center Studio Holiday Sale is back\, in person\, at the Art Center on Saturday\, December 4\, from 10 a.m.- 4 p.m.! If you're looking for handmade gifts for the holidays\, the Studio Holiday Sale is your one-stop shop. Our sale showcases artwork created by local artists working in the studios at the Art Center. Stunning and innovative jewelry\, functional and fine art ceramics\, paintings\, drawings\, and prints will be available. Proceeds benefit the participating artists\, our studios\, and the Palo Alto Art Center Foundation. There will be an exclusive Foundation members-only preview and sale on Friday\, December 3\, from 5:30-7:30 p.m. Please visit paacf.org to sign up for Foundation membership today!
X-ALT-DESC;FMTTYPE=text/html:The Palo Alto Art Center Studio Holiday Sale is back\, in person\, at the Art Center on Saturday\, December 4\, from 10 a.m.- 4 p.m.! If you&#39\;re looking for handmade gifts for the holidays\, the Studio Holiday Sale is your one-stop shop. Our sale showcases artwork created by local artists working in the studios at the Art Center. Stunning and innovative jewelry\, functional and fine art ceramics\, paintings\, drawings\, and prints will be available. Proceeds benefit the participating artists\, our studios\, and the Palo Alto Art Center Foundation. There will be an exclusive Foundation members-only preview and sale on Friday\, December 3\, from 5:30-7:30 p.m. Please visit paacf.org to sign up for Foundation membership today!
LOCATION:Palo Alto Art Center\, 1313 Newell Road\, Palo Alto\, CA 94303.
UID:e.2469.13932
SEQUENCE:3
DTSTAMP:20260422T051240Z
URL:https://business.paloaltochamber.com/events/details/palo-alto-art-center-studio-holiday-sale-13932
END:VEVENT

END:VCALENDAR
