BEGIN:VCALENDAR
VERSION:2.0
PRODID:-//ChamberMaster//Event Calendar 2.0//EN
METHOD:PUBLISH
X-PUBLISHED-TTL:P3D
REFRESH-INTERVAL:P3D
CALSCALE:GREGORIAN
BEGIN:VEVENT
DTSTART:20120321T151500Z
DTEND:20120321T070000Z
X-MICROSOFT-CDO-ALLDAYEVENT:FALSE
SUMMARY:Networking 2.0 From Contacts to Contracts
DESCRIPTION:Networking 2.0 is an interactive workshop presented by the Silicon Valley Business Journal and led by Caterina Rando.  The program is for novice networkers and well-seasoned beterans who want to up their game.  You will leave the workshop with the networking skills you need to find jobs\, recruit top employees\, win new clients and discover investors.\n\nRegistration fee:  $199 which Includes:\n\nOne registration to the Networking 2.0 workshop\nA subscription to the Silicon Valley Business Journal\, in print and online\nFREE 2010 Book of Lists mailed directly to you when published in December\nYour own signed copy of Caterina's book "Make Your Connections Count"\nComplimentary continental breakfast.
X-ALT-DESC;FMTTYPE=text/html:Networking 2.0 is an interactive workshop presented by the Silicon Valley Business Journal and led by Caterina Rando.  The program is for novice networkers and well-seasoned beterans who want to up their game.  You will leave the workshop with the networking skills you need to find jobs\, recruit top employees\, win new clients and discover investors.\n\nRegistration fee:  $199 which Includes:\n\nOne registration to the Networking 2.0 workshop\nA subscription to the Silicon Valley Business Journal\, in print and online\nFREE 2010 Book of Lists mailed directly to you when published in December\nYour own signed copy of Caterina's book "Make Your Connections Count"\nComplimentary continental breakfast.
LOCATION:2400 Sand Hill Road\, Menlo Park\, CA 94025
UID:e.2469.1193
SEQUENCE:3
DTSTAMP:20260425T232250Z
URL:https://business.paloaltochamber.com/events/details/networking-2-0-from-contacts-to-contracts-03-21-2012-1193
END:VEVENT

END:VCALENDAR
