BEGIN:VCALENDAR
VERSION:2.0
PRODID:-//ChamberMaster//Event Calendar 2.0//EN
METHOD:PUBLISH
X-PUBLISHED-TTL:P3D
REFRESH-INTERVAL:P3D
CALSCALE:GREGORIAN
BEGIN:VEVENT
DTSTART:20111023T173000Z
DTEND:20111023T070000Z
X-MICROSOFT-CDO-ALLDAYEVENT:FALSE
SUMMARY:Native Revival Plant Sale
DESCRIPTION:Don't miss the fall planting season. Join us on Sunday\, October 23rd\, 2011\, from 10:30 AM - 1:00 PM for a native plant sale at Common Ground. As a specialty grower of California native plants\, Native Revival offers a wide selection of flowering perennials\, shrubs\, and grasses. Indulge the pollinators in your garden with beautiful monkeyflowers\, penstemons\, salvias\, and more. A percent of all proceeds go to Common Ground. For special orders and plant availability go to Native Revival Availability at the Special Registration URL. Tell your friends and go native on October 23rd!
X-ALT-DESC;FMTTYPE=text/html:Don't miss the fall planting season. Join us on Sunday\, October 23rd\, 2011\, from 10:30 AM - 1:00 PM for a native plant sale at Common Ground. As a specialty grower of California native plants\, Native Revival offers a wide selection of flowering perennials\, shrubs\, and grasses. Indulge the pollinators in your garden with beautiful monkeyflowers\, penstemons\, salvias\, and more. A percent of all proceeds go to Common Ground. For special orders and plant availability go to Native Revival Availability at the Special Registration URL. Tell your friends and go native on October 23rd!\n
LOCATION:559 College Ave.\, Palo Alto\, CA 94306
UID:e.2469.1106
SEQUENCE:3
DTSTAMP:20260425T165534Z
URL:https://business.paloaltochamber.com/events/details/native-revival-plant-sale-10-23-2011-1106
END:VEVENT

END:VCALENDAR
