BEGIN:VCALENDAR
VERSION:2.0
PRODID:-//ChamberMaster//Event Calendar 2.0//EN
METHOD:PUBLISH
X-PUBLISHED-TTL:P3D
REFRESH-INTERVAL:P3D
CALSCALE:GREGORIAN
BEGIN:VEVENT
DTSTART:20110828T000000Z
DTEND:20110828T020000Z
X-MICROSOFT-CDO-ALLDAYEVENT:FALSE
SUMMARY:MOAH Science Night
DESCRIPTION:The Museum of American Heritage presents "Science Night." Awesome Hands-on activities with Static Electricity\, Electromagnetic Games & Toys\, Theremin\, Tesla Coil. Ages 7 and up\, adults welcome. Dinner included (pizza and beverages). $17/person in advance\, $20/at door.  RSVP: admin@moah.org or 650-321-1004. Info: www.moah.org.
X-ALT-DESC;FMTTYPE=text/html:The Museum of American Heritage presents "Science Night." Awesome Hands-on activities with Static Electricity\, Electromagnetic Games & Toys\, Theremin\, Tesla Coil. Ages 7 and up\, adults welcome. Dinner included (pizza and beverages). $17/person in advance\, $20/at door.  RSVP: admin@moah.org or 650-321-1004. Info: www.moah.org. 
LOCATION:Museum of American Heritage\, Palo Alto\, CA 94301
UID:e.2469.1083
SEQUENCE:3
DTSTAMP:20260425T115247Z
URL:https://business.paloaltochamber.com/events/details/moah-science-night-08-27-2011-1083
END:VEVENT

END:VCALENDAR
