BEGIN:VCALENDAR
VERSION:2.0
PRODID:-//ChamberMaster//Event Calendar 2.0//EN
METHOD:PUBLISH
X-PUBLISHED-TTL:P3D
REFRESH-INTERVAL:P3D
CALSCALE:GREGORIAN
BEGIN:VEVENT
DTSTART:20120120T040000Z
DTEND:20120120T040000Z
X-MICROSOFT-CDO-ALLDAYEVENT:FALSE
SUMMARY:Marvin's Room by Scott McPherson
DESCRIPTION:A darkly humorous look at life\, death\, mental illness\, and family\, Marvin's Room is the story of two estranged sisters who are reunited when one of them needs the family to be tested for a bone marrow donation. 1992 Drama Desk Award for Best Play.\n\nDirected by: Laura Jane Bailey\n \nFeaturing:\nBessie - Mary Lou Torre\nLee - Meredith Hagedorn*\nHank - Ronald Feichtmeir\nCharlie - Clifford Samoranos\nRuth - Lynda Marcum\nDr. Charlotte - Janine Evans\nDr. Wally - Jeff Swan\nBob - Jim Johnson\n*Member of Actors' Equity Association\n\n \nJanuary 20 – February 12\, 2012\n\nThursdays – Saturdays @ 8pm\, Sundays @ 2pm\nPay-What-You-Can Preview Thursday\, January 19th @ 8pm\nOpening night gala January 20th after the show\nTalkback with the director and cast after the show on Sunday\, February 5th\n\n\nBuy your tickets today online or by calling 1-800-838-3006!\n\nFree street parking after 3pm\, free parking garage on the corner of Alma & University\, \nor $4 to park across the street in the Caltrain parking lot (pay station on train platform).
X-ALT-DESC;FMTTYPE=text/html:A darkly humorous look at life\, death\, mental illness\, and family\, Marvin's Room is the story of two estranged sisters who are reunited when one of them needs the family to be tested for a bone marrow donation. 1992 Drama Desk Award for Best Play.\n\nDirected by: Laura Jane Bailey\n \nFeaturing:\nBessie - Mary Lou Torre\nLee - Meredith Hagedorn*\nHank - Ronald Feichtmeir\nCharlie - Clifford Samoranos\nRuth - Lynda Marcum\nDr. Charlotte - Janine Evans\nDr. Wally - Jeff Swan\nBob - Jim Johnson\n*Member of Actors' Equity Association\n\n \nJanuary 20 – February 12\, 2012\n\nThursdays – Saturdays @ 8pm\, Sundays @ 2pm\nPay-What-You-Can Preview Thursday\, January 19th @ 8pm\nOpening night gala January 20th after the show\nTalkback with the director and cast after the show on Sunday\, February 5th\n\n\nBuy your tickets today online or by calling 1-800-838-3006!\n\nFree street parking after 3pm\, free parking garage on the corner of Alma & University\, \nor $4 to park across the street in the Caltrain parking lot (pay station on train platform).
LOCATION:535 Alma Street\, Palo Alto\, CA 94301
UID:e.2469.1147
SEQUENCE:3
DTSTAMP:20260425T201100Z
URL:https://business.paloaltochamber.com/events/details/marvin-s-room-by-scott-mcpherson-01-19-2012-1147
END:VEVENT

END:VCALENDAR
