BEGIN:VCALENDAR
VERSION:2.0
PRODID:-//ChamberMaster//Event Calendar 2.0//EN
METHOD:PUBLISH
X-PUBLISHED-TTL:P3D
REFRESH-INTERVAL:P3D
CALSCALE:GREGORIAN
BEGIN:VEVENT
DTSTART:20111101T003000Z
DTEND:20111101T023000Z
X-MICROSOFT-CDO-ALLDAYEVENT:FALSE
SUMMARY:Lytton Gardens 8th Annual Safe HALLOWEEN!
DESCRIPTION:Dress up the kids and celebrate with us!\n\nMonday\, October 31st\, 2011\n\n5:30 - 7:30 p.m.\n\nFREE.\n\n**Tots through 5th grade**\n\n8TH ANNUAL SAFE HALLOWEEN AT LYTTON GARDENS\nThis Halloween\, get the kids all dressed up in their costumes and celebrate the holiday with the friendly folks right here at Lytton Gardens Retirement Living!\n\nEvery year\, the residents and staff decorate the lobby\, hallways\, library and dining room to prepare for an evening of safe fun for kids. There will be trick-or-treating\, spooktacular decorations\, face painting\, games and refreshments.\n\nAnd.....some new surprises just waiting for you!\n\nThe 8th Annual Lytton Gardens Safe Halloween will take place at 656 Lytton Avenue in Palo Alto (use the Retirement Living Entrance).\n\nBecause it's indoors\, your kids will have fun rain or shine!\n\nFor more information\, call 650-328-3300.
X-ALT-DESC;FMTTYPE=text/html:Dress up the kids and celebrate with us!\n\nMonday\, October 31st\, 2011\n\n5:30 - 7:30 p.m.\n\nFREE.\n\n**Tots through 5th grade**\n\n8TH ANNUAL SAFE HALLOWEEN AT LYTTON GARDENS\nThis Halloween\, get the kids all dressed up in their costumes and celebrate the holiday with the friendly folks right here at Lytton Gardens Retirement Living!\n\nEvery year\, the residents and staff decorate the lobby\, hallways\, library and dining room to prepare for an evening of safe fun for kids. There will be trick-or-treating\, spooktacular decorations\, face painting\, games and refreshments.\n\nAnd.....some new surprises just waiting for you!\n\nThe 8th Annual Lytton Gardens Safe Halloween will take place at 656 Lytton Avenue in Palo Alto (use the Retirement Living Entrance).\n\nBecause it's indoors\, your kids will have fun rain or shine!\n\nFor more information\, call 650-328-3300.
LOCATION:656 Lytton Ave.\, Palo Alto\, CA 94301
UID:e.2469.1113
SEQUENCE:3
DTSTAMP:20260425T152418Z
URL:https://business.paloaltochamber.com/events/details/lytton-gardens-8th-annual-safe-halloween-10-31-2011-1113
END:VEVENT

END:VCALENDAR
