BEGIN:VCALENDAR
VERSION:2.0
PRODID:-//ChamberMaster//Event Calendar 2.0//EN
METHOD:PUBLISH
X-PUBLISHED-TTL:P3D
REFRESH-INTERVAL:P3D
CALSCALE:GREGORIAN
BEGIN:VEVENT
DTSTART:20111209T190000Z
DTEND:20120115T233000Z
X-MICROSOFT-CDO-ALLDAYEVENT:FALSE
SUMMARY:LEGO Holiday Display
DESCRIPTION:The Museum of American Heritage (MOAH)\, The Bay Area LEGO® User Group (BayLUG) and Bay Area LEGO Train Club (BayLTC) are co-hosting the 2011 LEGO Holiday display at MOAH. Enjoy a variety of LEGO creations made by members of the club\, featuring train layouts and Bay Area landmarks. $2 per person. Closed Dec. 24\, 25\, 31 & Jan. 1
X-ALT-DESC;FMTTYPE=text/html:The Museum of American Heritage (MOAH)\, The Bay Area LEGO® User Group (BayLUG) and Bay Area LEGO Train Club (BayLTC) are co-hosting the 2011 LEGO Holiday display at MOAH. Enjoy a variety of LEGO creations made by members of the club\, featuring train layouts and Bay Area landmarks. $2 per person. Closed Dec. 24\, 25\, 31 & Jan. 1
LOCATION:351 Homer Avenue\, Palo Alto\, CA 94301
UID:e.2469.1117
SEQUENCE:3
DTSTAMP:20260425T183035Z
URL:https://business.paloaltochamber.com/events/details/lego-holiday-display-12-09-2011-1117
END:VEVENT

END:VCALENDAR
