BEGIN:VCALENDAR
VERSION:2.0
PRODID:-//ChamberMaster//Event Calendar 2.0//EN
METHOD:PUBLISH
X-PUBLISHED-TTL:P3D
REFRESH-INTERVAL:P3D
CALSCALE:GREGORIAN
BEGIN:VEVENT
DTSTART:20110730T173000Z
DTEND:20110730T200000Z
X-MICROSOFT-CDO-ALLDAYEVENT:FALSE
SUMMARY:LANDSCAPING WITH EDIBLES
DESCRIPTION:Register at http://landscapingwithedibles.eventbrite.com or by calling 650-493-6072. Cost $35 + $8 materials fee.  Edible plants are lovely in the landscape\, and useful in many ways. They offer color\, fragrance\, food for us and food for the beneficial insects. Many are drought and deer-resistant. Find out Jody's favorite foundation landscape herbs\, climbers\, ground covers and edibles that reseed and regenerate each year. Special attention will be given to the many varieties of lavender\, with samples to see. Everyone will take home a 6-pack of planted edible landscape plants from seed and cuttings and enjoy a cup of Jody's Organic Garden Tea. Class includes Jody's Edible Landscape Plant Work list.
X-ALT-DESC;FMTTYPE=text/html:Register at http://landscapingwithedibles.eventbrite.com or by calling 650-493-6072. Cost $35 + $8 materials fee.  Edible plants are lovely in the landscape\, and useful in many ways. They offer color\, fragrance\, food for us and food for the beneficial insects. Many are drought and deer-resistant. Find out Jody's favorite foundation landscape herbs\, climbers\, ground covers and edibles that reseed and regenerate each year. Special attention will be given to the many varieties of lavender\, with samples to see. Everyone will take home a 6-pack of planted edible landscape plants from seed and cuttings and enjoy a cup of Jody's Organic Garden Tea. Class includes Jody's Edible Landscape Plant Work list.
LOCATION:559 College Ave.\, Palo Alto\, CA 94306
UID:e.2469.1057
SEQUENCE:3
DTSTAMP:20260425T102510Z
URL:https://business.paloaltochamber.com/events/details/landscaping-with-edibles-07-30-2011-1057
END:VEVENT

END:VCALENDAR
