BEGIN:VCALENDAR
VERSION:2.0
PRODID:-//ChamberMaster//Event Calendar 2.0//EN
METHOD:PUBLISH
X-PUBLISHED-TTL:P3D
REFRESH-INTERVAL:P3D
CALSCALE:GREGORIAN
BEGIN:VEVENT
DTSTART:20120406T020000Z
DTEND:20120406T030000Z
X-MICROSOFT-CDO-ALLDAYEVENT:FALSE
SUMMARY:Jonah Lehrer\, Author of ''Imagine: How Creativity Works''
DESCRIPTION:Acclaimed science writer and popular blogger Jonah Lehrer helped us learn about our decision making process in his best-selling book ''How We Decide''. Now he delves into the human mind to decipher the anatomy of imagination and explore the new science of creativity with ''Imagine''. \n\nLehrer introduces us to musicians like Bob Dylan and Yo Yo Ma\, artists working at Pixar\, engineers at Procter and Gamble\, and even a bartender who think more like chemist to demonstrate our most important mental talent: the ability to imagine what has never existed. \n\nFind out what cities and companies are doing to double our creative output and make our culture more creative.
X-ALT-DESC;FMTTYPE=text/html:Acclaimed science writer and popular blogger Jonah Lehrer helped us learn about our decision making process in his best-selling book ''How We Decide''. Now he delves into the human mind to decipher the anatomy of imagination and explore the new science of creativity with ''Imagine''. \n\nLehrer introduces us to musicians like Bob Dylan and Yo Yo Ma\, artists working at Pixar\, engineers at Procter and Gamble\, and even a bartender who think more like chemist to demonstrate our most important mental talent: the ability to imagine what has never existed. \n\nFind out what cities and companies are doing to double our creative output and make our culture more creative. \n
LOCATION:3921 Fabian Way\, Palo Alto\, CA 94303
UID:e.2469.1199
SEQUENCE:3
DTSTAMP:20260426T025305Z
URL:https://business.paloaltochamber.com/events/details/jonah-lehrer-author-of-imagine-how-creativity-works-04-05-2012-1199
END:VEVENT

END:VCALENDAR
