BEGIN:VCALENDAR
VERSION:2.0
PRODID:-//ChamberMaster//Event Calendar 2.0//EN
METHOD:PUBLISH
X-PUBLISHED-TTL:P3D
REFRESH-INTERVAL:P3D
CALSCALE:GREGORIAN
BEGIN:VEVENT
DTSTART:20111020T020000Z
DTEND:20111020T020000Z
X-MICROSOFT-CDO-ALLDAYEVENT:FALSE
SUMMARY:Jim Lehrer\, Former Anchor of PBS Newshour & Author of ''Tension City: Inside the Presidential Debates: from Kennedy-Nixon
DESCRIPTION:As the ''man in the middle seat''\, Jim Lehrer has presided over eleven presidential and vice-presidential debates. Drawing from his own experiences and interviews with candidates and other moderators\, Lehrer gives an insider account of all of the backstage drama and reflects on some of the ''major moments'' and ''killer questions'' that defined each historical debate.
X-ALT-DESC;FMTTYPE=text/html:As the ''man in the middle seat''\, Jim Lehrer has presided over eleven presidential and vice-presidential debates. Drawing from his own experiences and interviews with candidates and other moderators\, Lehrer gives an insider account of all of the backstage drama and reflects on some of the ''major moments'' and ''killer questions'' that defined each historical debate. 
LOCATION:1305 Middlefield Road\, Palo Alto\, CA 94301
UID:e.2469.1108
SEQUENCE:3
DTSTAMP:20260425T152859Z
URL:https://business.paloaltochamber.com/events/details/jim-lehrer-former-anchor-of-pbs-newshour-author-of-tension-city-inside-the-presidential-debates-from-kennedy-nixon-10-19-2011-1108
END:VEVENT

END:VCALENDAR
