BEGIN:VCALENDAR
VERSION:2.0
PRODID:-//ChamberMaster//Event Calendar 2.0//EN
METHOD:PUBLISH
X-PUBLISHED-TTL:P3D
REFRESH-INTERVAL:P3D
CALSCALE:GREGORIAN
BEGIN:VEVENT
DTSTART:20120517T020000Z
DTEND:20120517T020000Z
X-MICROSOFT-CDO-ALLDAYEVENT:FALSE
SUMMARY:James Fallows\, Author of ''China Airborne: The Dream of Aviation in Emerging China''
DESCRIPTION:In 2011\, China announced its five year plan to spend a quarter of a trillion dollars to jumpstart the next phase of its aerospace industry. The country currently has more airports under construction\, a growing workforce of engineers and assembly workers\, and recently acquired two American companies specializing in small propeller planes. \n\nAs the country continues to lead the charge to become the new leader in aviation power\, Fallows discusses the scale of China's ambitious plans and what that would mean not only for the United States but the rest of the world.
X-ALT-DESC;FMTTYPE=text/html:In 2011\, China announced its five year plan to spend a quarter of a trillion dollars to jumpstart the next phase of its aerospace industry. The country currently has more airports under construction\, a growing workforce of engineers and assembly workers\, and recently acquired two American companies specializing in small propeller planes. \n\nAs the country continues to lead the charge to become the new leader in aviation power\, Fallows discusses the scale of China's ambitious plans and what that would mean not only for the United States but the rest of the world. \n
LOCATION:4000 Middlefield Road\, Palo Alto\, CA 94303
UID:e.2469.1213
SEQUENCE:3
DTSTAMP:20260426T025605Z
URL:https://business.paloaltochamber.com/events/details/james-fallows-author-of-china-airborne-the-dream-of-aviation-in-emerging-china-05-16-2012-1213
END:VEVENT

END:VCALENDAR
