BEGIN:VCALENDAR
VERSION:2.0
PRODID:-//ChamberMaster//Event Calendar 2.0//EN
METHOD:PUBLISH
X-PUBLISHED-TTL:P3D
REFRESH-INTERVAL:P3D
CALSCALE:GREGORIAN
BEGIN:VEVENT
DTSTART:20120622T180000Z
DTEND:20130114T000000Z
X-MICROSOFT-CDO-ALLDAYEVENT:FALSE
SUMMARY:Inventing the 20th Century
DESCRIPTION:MOAH continues its exploration of American innovation with Inventing the 20th Century\, 1901 - 1941. Following in the footsteps of the highly successful exhibit\, Victorian America: Invention and Technology\, our new exhibit continues to examine America's role in the process of technological innovation from the turn of the century to the beginning of the Second World War. Many of the concepts and ideas from the technologies of the Victorian Era were further developed to create the essential inventions of the early 20th century: many remain in use today.\nOpen Fridays\, Saturdays and Sundays
X-ALT-DESC;FMTTYPE=text/html:MOAH continues its exploration of American innovation with Inventing the 20th Century\, 1901 - 1941. Following in the footsteps of the highly successful exhibit\, Victorian America: Invention and Technology\, our new exhibit continues to examine America's role in the process of technological innovation from the turn of the century to the beginning of the Second World War. Many of the concepts and ideas from the technologies of the Victorian Era were further developed to create the essential inventions of the early 20th century: many remain in use today.\nOpen Fridays\, Saturdays and Sundays
LOCATION:351 Homer Avenue\, Palo Alto\, CA 94301
UID:e.2469.1240
SEQUENCE:3
DTSTAMP:20260426T043802Z
URL:https://business.paloaltochamber.com/events/details/inventing-the-20th-century-06-22-2012-1240
END:VEVENT

END:VCALENDAR
