BEGIN:VCALENDAR
VERSION:2.0
PRODID:-//ChamberMaster//Event Calendar 2.0//EN
METHOD:PUBLISH
X-PUBLISHED-TTL:P3D
REFRESH-INTERVAL:P3D
CALSCALE:GREGORIAN
BEGIN:VEVENT
DTSTART:20120211T183000Z
DTEND:20120211T203000Z
X-MICROSOFT-CDO-ALLDAYEVENT:FALSE
SUMMARY:INTRODUCTION TO GROW BIOINTENSIVE
DESCRIPTION:with Carol Cox		$31        Click http://introtogrowbiointensiveclass.eventbrite.com/ to register or call 650-493-6072.\nGROW BIOINTENSIVE is a whole-system approach to gardening and farming that builds soil fertility in a relatively short time\, so that fertilizer inputs (other than compost) become unnecessary\, or almost so\, thereby making the garden and farm as sustainable as possible. Learn the principles of double-digging\, composting and soil-building\, intensive planting\, companion planting\, carbon farming (compost crops)\, calorie farming\, and open-pollinated seeds.
X-ALT-DESC;FMTTYPE=text/html:with Carol Cox		$31        Click http://introtogrowbiointensiveclass.eventbrite.com/ to register or call 650-493-6072.\nGROW BIOINTENSIVE is a whole-system approach to gardening and farming that builds soil fertility in a relatively short time\, so that fertilizer inputs (other than compost) become unnecessary\, or almost so\, thereby making the garden and farm as sustainable as possible. Learn the principles of double-digging\, composting and soil-building\, intensive planting\, companion planting\, carbon farming (compost crops)\, calorie farming\, and open-pollinated seeds. 
LOCATION:Common Ground Garden Supply and Education Center\, Palo Alto\, CA 94306
UID:e.2469.1123
SEQUENCE:3
DTSTAMP:20260425T213747Z
URL:https://business.paloaltochamber.com/events/details/introduction-to-grow-biointensive-02-11-2012-1123
END:VEVENT

END:VCALENDAR
