BEGIN:VCALENDAR
VERSION:2.0
PRODID:-//ChamberMaster//Event Calendar 2.0//EN
METHOD:PUBLISH
X-PUBLISHED-TTL:P3D
REFRESH-INTERVAL:P3D
CALSCALE:GREGORIAN
BEGIN:VEVENT
DTSTART:20120602T203000Z
DTEND:20120602T223000Z
X-MICROSOFT-CDO-ALLDAYEVENT:FALSE
SUMMARY:Intro to Ayurveda: Diet and Lifestyle of a Yogi
DESCRIPTION:In this Extended Hot Stone Restorative Yoga Practice\, students will be guided through a period of meditation\, intention setting\, and a gentle warm-up practice that flows and slows down into a deeply healing restorative practice. Restorative yoga postures are held for extended periods of time to facilitate a gentle opening of the body and a fuller emotional experience of the present moment. Students will be inspired by the integration of yoga philosophy and mindfulness practice to open the heart and move toward increased acceptance of the full range of human experience both on and off the mat. Restorative yoga works to cultivate wholesome states of relaxation\, thus harmonizing the mind and body. Students will learn breathing and relaxation practices that aim to lower the heart rate and blood pressure as well as disrupt habitual patterns of thought. Hot massage stones\, aromatherapy and yoga props are incorporated into each restorative posture to maximize the healing effects of the practice.
X-ALT-DESC;FMTTYPE=text/html:In this Extended Hot Stone Restorative Yoga Practice\, students will be guided through a period of meditation\, intention setting\, and a gentle warm-up practice that flows and slows down into a deeply healing restorative practice. Restorative yoga postures are held for extended periods of time to facilitate a gentle opening of the body and a fuller emotional experience of the present moment. Students will be inspired by the integration of yoga philosophy and mindfulness practice to open the heart and move toward increased acceptance of the full range of human experience both on and off the mat. Restorative yoga works to cultivate wholesome states of relaxation\, thus harmonizing the mind and body. Students will learn breathing and relaxation practices that aim to lower the heart rate and blood pressure as well as disrupt habitual patterns of thought. Hot massage stones\, aromatherapy and yoga props are incorporated into each restorative posture to maximize the healing effects of the practice.
LOCATION:3485 El Camino Real\, Palo Alto\, CA 94306
UID:e.2469.1217
SEQUENCE:3
DTSTAMP:20260426T044102Z
URL:https://business.paloaltochamber.com/events/details/intro-to-ayurveda-diet-and-lifestyle-of-a-yogi-06-02-2012-1217
END:VEVENT

END:VCALENDAR
