BEGIN:VCALENDAR
VERSION:2.0
PRODID:-//ChamberMaster//Event Calendar 2.0//EN
METHOD:PUBLISH
X-PUBLISHED-TTL:P3D
REFRESH-INTERVAL:P3D
CALSCALE:GREGORIAN
BEGIN:VEVENT
DTSTART:20120504T203000Z
DTEND:20120512T230000Z
X-MICROSOFT-CDO-ALLDAYEVENT:FALSE
SUMMARY:Intro to Ayurveda: Diet and Lifestyle of a Yogi
DESCRIPTION:Come and learn about Ayurveda\, the holistic medicine of India and sister science of Yoga! Ayurveda sees every individual as a unique combination of the five elements (space\, air\, fire\, water & earth) and therefore recommends an individualized approach to health for each person. In this workshop\, you'll learn about the doshas (or different constitutional types)\, discover your constitution and learn about the unique foods and lifestyle practices that reveal your optimal state of wellness! You'll walk away from this workshop with food lists\, recipes for spring detoxification\, and lifestyle guidance that could change your life! This workshop will be a combination of lecture and yoga practice\, so please dress comfortably and bring a pen.\n \nIf you have any questions\, don't hesitate to contact Kate at yoginikate@gmail.com. \nYou can learn more about Kate\, Ayurveda and her work on her website at sanfranshakti.com.
X-ALT-DESC;FMTTYPE=text/html:Come and learn about Ayurveda\, the holistic medicine of India and sister science of Yoga! Ayurveda sees every individual as a unique combination of the five elements (space\, air\, fire\, water & earth) and therefore recommends an individualized approach to health for each person. In this workshop\, you'll learn about the doshas (or different constitutional types)\, discover your constitution and learn about the unique foods and lifestyle practices that reveal your optimal state of wellness! You'll walk away from this workshop with food lists\, recipes for spring detoxification\, and lifestyle guidance that could change your life! This workshop will be a combination of lecture and yoga practice\, so please dress comfortably and bring a pen.\n \nIf you have any questions\, don't hesitate to contact Kate at yoginikate@gmail.com. \nYou can learn more about Kate\, Ayurveda and her work on her website at sanfranshakti.com.
LOCATION:3485 El Camino Real\, Palo Alto\, CA 94306
UID:e.2469.1216
SEQUENCE:3
DTSTAMP:20260426T025605Z
URL:https://business.paloaltochamber.com/events/details/intro-to-ayurveda-diet-and-lifestyle-of-a-yogi-05-04-2012-1216
END:VEVENT

END:VCALENDAR
