BEGIN:VCALENDAR
VERSION:2.0
PRODID:-//ChamberMaster//Event Calendar 2.0//EN
METHOD:PUBLISH
X-PUBLISHED-TTL:P3D
REFRESH-INTERVAL:P3D
CALSCALE:GREGORIAN
BEGIN:VEVENT
DTSTART:20111015T173000Z
DTEND:20111015T193000Z
X-MICROSOFT-CDO-ALLDAYEVENT:FALSE
SUMMARY:HOW TO SAVE YOUR OWN SEEDS
DESCRIPTION:$31\nClick http://howtosaveyourseeds.eventbrite.com to register or call 650-493-6072\nWith just a little more time and effort\, you can have the satisfaction of saving seeds from your own garden and planting them next year. This is not difficult\, but it is important to understand a few basic principles. We will discuss these principles and how they apply to crops commonly grown in backyard gardens. Please bring your copy of the 7th edition of How to Grow More Vegetables.
X-ALT-DESC;FMTTYPE=text/html:$31\nClick http://howtosaveyourseeds.eventbrite.com to register or call 650-493-6072\nWith just a little more time and effort\, you can have the satisfaction of saving seeds from your own garden and planting them next year. This is not difficult\, but it is important to understand a few basic principles. We will discuss these principles and how they apply to crops commonly grown in backyard gardens. Please bring your copy of the 7th edition of How to Grow More Vegetables.\n
LOCATION:559 College Ave.\, Palo Alto\, CA 94306
UID:e.2469.1102
SEQUENCE:3
DTSTAMP:20260425T151541Z
URL:https://business.paloaltochamber.com/events/details/how-to-save-your-own-seeds-10-15-2011-1102
END:VEVENT

END:VCALENDAR
