BEGIN:VCALENDAR
VERSION:2.0
PRODID:-//ChamberMaster//Event Calendar 2.0//EN
METHOD:PUBLISH
X-PUBLISHED-TTL:P3D
REFRESH-INTERVAL:P3D
CALSCALE:GREGORIAN
BEGIN:VEVENT
DTSTART:20120623T230000Z
DTEND:20120624T040000Z
X-MICROSOFT-CDO-ALLDAYEVENT:FALSE
SUMMARY:HORSIN' AROUND\, a Western Bonanza
DESCRIPTION:"Kick up Your Spurs" and join the fun while raising funds for Peninsula Volunteers\, Inc.\nThis Western event will feature gaming\, silent auction\, dancing\, games\, and as much fun as the local Sheriff will allow!  There will be live entertainment\, horse exhibitions and a "Best in the West" barbecue buffet.  Proceeds to go Peninsula Volunteers\, Inc.\, serving the aging local community through Meals on Wheels\, Rosener House Adult Day Services Center and Little House Adult Activity Center.
X-ALT-DESC;FMTTYPE=text/html:"Kick up Your Spurs" and join the fun while raising funds for Peninsula Volunteers\, Inc.\nThis Western event will feature gaming\, silent auction\, dancing\, games\, and as much fun as the local Sheriff will allow!  There will be live entertainment\, horse exhibitions and a "Best in the West" barbecue buffet.  Proceeds to go Peninsula Volunteers\, Inc.\, serving the aging local community through Meals on Wheels\, Rosener House Adult Day Services Center and Little House Adult Activity Center.
LOCATION:880 Runnymede Road\,\, Woodside\, CA 94062
UID:e.2469.1200
SEQUENCE:3
DTSTAMP:20260426T043812Z
URL:https://business.paloaltochamber.com/events/details/horsin-around-a-western-bonanza-06-23-2012-1200
END:VEVENT

END:VCALENDAR
