BEGIN:VCALENDAR
VERSION:2.0
PRODID:-//ChamberMaster//Event Calendar 2.0//EN
METHOD:PUBLISH
X-PUBLISHED-TTL:P3D
REFRESH-INTERVAL:P3D
CALSCALE:GREGORIAN
BEGIN:VEVENT
DTSTART:20120413T004500Z
DTEND:20120413T021500Z
X-MICROSOFT-CDO-ALLDAYEVENT:FALSE
SUMMARY:Hip Openers Yoga Class
DESCRIPTION:Hip-openers in yoga classes help to release lower back tension\, knee discomfort\, and sciatic nerve discomfort. Greater mobility improves blood circulation to the pelvic bones lumbar vertebrae and spinal disks\, intestines and reproductive organs. Join me Thursday evening April 12th at the California Yoga Center in Palo Alto! It is a small class so you get extra love and attention! ? http://patriciajoy.wordpress.com/
X-ALT-DESC;FMTTYPE=text/html:Hip-openers in yoga classes help to release lower back tension\, knee discomfort\, and sciatic nerve discomfort. Greater mobility improves blood circulation to the pelvic bones lumbar vertebrae and spinal disks\, intestines and reproductive organs. Join me Thursday evening April 12th at the California Yoga Center in Palo Alto! It is a small class so you get extra love and attention! ? http://patriciajoy.wordpress.com/
LOCATION:541 Cowper Ave \, Palo Alto \, CA 94306
UID:e.2469.1203
SEQUENCE:3
DTSTAMP:20260426T011022Z
URL:https://business.paloaltochamber.com/events/details/hip-openers-yoga-class-04-12-2012-1203
END:VEVENT

END:VCALENDAR
